BEGIN:VCALENDAR
VERSION:2.0
PRODID:spatie/icalendar-generator
DESCRIPTION:Events from PRCUALife
X-WR-CALDESC:Events from PRCUALife
REFRESH-INTERVAL;VALUE=DURATION:PT1440M
X-PUBLISHED-TTL:PT1440M
BEGIN:VTIMEZONE
TZID:America/Chicago
BEGIN:STANDARD
DTSTART:20181104T020000Z
TZOFFSETFROM:-0500
TZOFFSETTO:-0600
END:STANDARD
BEGIN:DAYLIGHT
DTSTART:20190310T020000Z
TZOFFSETFROM:-0600
TZOFFSETTO:-0500
END:DAYLIGHT
BEGIN:STANDARD
DTSTART:20191103T020000Z
TZOFFSETFROM:-0500
TZOFFSETTO:-0600
END:STANDARD
END:VTIMEZONE
BEGIN:VTIMEZONE
TZID:UTC
BEGIN:STANDARD
DTSTART:20250728T171902Z
TZOFFSETFROM:+0000
TZOFFSETTO:+0000
END:STANDARD
END:VTIMEZONE
BEGIN:VEVENT
UID:1109-645
DTSTAMP:20260424T171902Z
SUMMARY:WARREN\, MI - POLSKIE MAKI DANCE RECITAL
LOCATION:
ORGANIZER;CN=Anne Moschopoulos:MAILTO:anne-moschopoulos@prcua.org
DTSTART;TZID=America/Chicago;VALUE=DATE:20190511
DTEND;TZID=America/Chicago;VALUE=DATE:20190513
X-ALT-DESC;FMTTYPE=TEXT/HTML:WARREN\, MI \, Polskie Maki 43th Dance Recital
  AT Van Dyke Auditiorium\, (Lincoln High School)\, 22900 Federal\, Warren\
 , MI.
CATEGORIES:General
URL;VALUE=URI:https://www.prcua.org/mc-events/warren-mi-polskie-maki-dance-
 recital/
METHOD:PUBLISH
END:VEVENT
END:VCALENDAR